BEGIN:VCALENDAR
VERSION:2.0
CALSCALE:GREGORIAN
METHOD:PUBLISH
X-WR-TIMEZONE:Australia/Sydney
BEGIN:VTIMEZONE
TZID:Australia/Sydney
BEGIN:STANDARD
TZNAME:AEST
END:STANDARD
END:VTIMEZONE
BEGIN:VEVENT
DTSTART;TZID=Australia/Sydney:20210816
DTEND;TZID=Australia/Sydney:20210816
DTSTAMP:20260425T001414
UID:64
SUMMARY:Year 3/4 Camp- 2 Groups
DESCRIPTION:




Monday 16th August-Friday 20th August- 2 GroupsGroup 1. Monday 16th to Wednesday 18th August. Group 2. Wednesday 18th to Friday 20th August.


SEQUENCE:0
STATUS:CONFIRMED
TRANSP:OPAQUE
END:VEVENT
END:VCALENDAR