BEGIN:VCALENDAR
VERSION:2.0
CALSCALE:GREGORIAN
METHOD:PUBLISH
X-WR-TIMEZONE:Australia/Sydney
BEGIN:VTIMEZONE
TZID:Australia/Sydney
BEGIN:STANDARD
TZNAME:AEST
END:STANDARD
END:VTIMEZONE
BEGIN:VEVENT
DTSTART;TZID=Australia/Sydney:20210309
DTEND;TZID=Australia/Sydney:20210309
DTSTAMP:20210301T124401
UID:49
SUMMARY:Student/ Parent/ Teacher Conferences *Students at school for appointment time ONLY
DESCRIPTION:




*Students at school for appointment time ONLY


SEQUENCE:0
STATUS:CONFIRMED
TRANSP:OPAQUE
END:VEVENT
END:VCALENDAR