BEGIN:VCALENDAR
VERSION:2.0
CALSCALE:GREGORIAN
METHOD:PUBLISH
X-WR-TIMEZONE:Australia/Sydney
BEGIN:VTIMEZONE
TZID:Australia/Sydney
BEGIN:STANDARD
TZNAME:AEST
END:STANDARD
END:VTIMEZONE
BEGIN:VEVENT
DTSTART;TZID=Australia/Sydney:20210210T180000
DTEND;TZID=Australia/Sydney:20210210T200000
DTSTAMP:20260424T234610
UID:48
SUMMARY:Information night
DESCRIPTION:




Wednesday 10th February&amp;nbsp;&amp;nbsp;Information Night - Via Webex&amp;nbsp;6.00PM- Preps6.30PM- Year 1/27.00PM - Year 3/47.30PM- Year 5/6


SEQUENCE:0
STATUS:CONFIRMED
TRANSP:OPAQUE
END:VEVENT
END:VCALENDAR