BEGIN:VCALENDAR
VERSION:2.0
CALSCALE:GREGORIAN
METHOD:PUBLISH
X-WR-TIMEZONE:Australia/Sydney
BEGIN:VTIMEZONE
TZID:Australia/Sydney
BEGIN:STANDARD
TZNAME:AEST
END:STANDARD
END:VTIMEZONE
BEGIN:VEVENT
DTSTART;TZID=Australia/Sydney:20260806
DTEND;TZID=Australia/Sydney:20260806
DTSTAMP:20260420T145546
UID:386
SUMMARY:Production 2026
DESCRIPTION:




We, like you, are busy making plans for 2026. We are often asked when big events are. Breaking news - our 2026 production will be Thursday 6th August and Friday 7th August. Save the date for your diary.



SEQUENCE:0
STATUS:CONFIRMED
TRANSP:OPAQUE
END:VEVENT
END:VCALENDAR